BEGIN:VCALENDAR
VERSION:2.0
PRODID:-//wp-events-plugin.com//7.2.3.1//EN
TZID:Europe/Berlin
X-WR-TIMEZONE:Europe/Berlin
BEGIN:VEVENT
UID:93@antidef20.de
DTSTART;TZID=Europe/Berlin:20200312T150000
DTEND;TZID=Europe/Berlin:20200312T170000
DTSTAMP:20200229T113957Z
URL:https://www.antidef20.de/events/infostand-in-petersstrasse/
SUMMARY:Infostand in Petersstraße
DESCRIPTION:
LOCATION:Vor Hugendubel\, Petersstraße 12\, Leipzig\, Sachsen\, 04109\, De
 utschland
X-APPLE-STRUCTURED-LOCATION;VALUE=URI;X-ADDRESS=Petersstraße 12\, Leipzig\
 , Sachsen\, 04109\, Deutschland;X-APPLE-RADIUS=100;X-TITLE=Vor Hugendubel:
 geo:0,0
END:VEVENT
BEGIN:VTIMEZONE
TZID:Europe/Berlin
X-LIC-LOCATION:Europe/Berlin
BEGIN:STANDARD
DTSTART:20191027T020000
TZOFFSETFROM:+0200
TZOFFSETTO:+0100
TZNAME:CET
END:STANDARD
END:VTIMEZONE
END:VCALENDAR