BEGIN:VCALENDAR
VERSION:2.0
PRODID:-//wp-events-plugin.com//7.2.3.1//EN
TZID:Europe/Berlin
X-WR-TIMEZONE:Europe/Berlin
BEGIN:VEVENT
UID:78@antidef20.de
DTSTART;TZID=Europe/Berlin:20200321T110000
DTEND;TZID=Europe/Berlin:20200321T140000
DTSTAMP:20200223T111142Z
URL:https://www.antidef20.de/events/friedensbewegung-stuttgart-samstags-in
 fostand-2020-03-21/
SUMMARY:Friedensbewegung Stuttgart: Samstags Infostand
DESCRIPTION:Wir wollen die PassantInnen über aktuelle Themen der Friedensb
 ewegung bzw. anstehende Aktivitäten informieren:\n\n* NATO-Manöver Defen
 der 2020.\n* Ostermarsch.\n* Tag der Befreiung von Faschismus und Krieg am
  8. Mai.\n* 75. Jahrestag des Atombombenabwurfes auf Hiroshima.\n\nEs ist 
 dringend notwendig\, die Menschen über die brandgefährliche Aufrüstung 
 und Militarisierung zu informieren. Die Friedensbewegung muss zum einem st
 ändigen Faktor auf den Straßen werden.\n\nTeilnahme-Doodle: https://dood
 le.com/poll/9rq8vwgvz6d9ec2a\n(Hilfreich wäre auch die Angabe von Mailadr
 esse und/oder Telefonnummer. Die Daten sind nicht öffentlich und können 
 nur vom Doodle-Ersteller gelesen werden.)
LOCATION:Nähe Pusteblumenbrunnen\, Ecke Königstraße / Marstallstraße\, 
 Stuttgart\, Baden-Württemberg\, 70173\, Deutschland
X-APPLE-STRUCTURED-LOCATION;VALUE=URI;X-ADDRESS=Ecke Königstraße / Marsta
 llstraße\, Stuttgart\, Baden-Württemberg\, 70173\, Deutschland;X-APPLE-R
 ADIUS=100;X-TITLE=Nähe Pusteblumenbrunnen:geo:0,0
END:VEVENT
BEGIN:VTIMEZONE
TZID:Europe/Berlin
X-LIC-LOCATION:Europe/Berlin
BEGIN:STANDARD
DTSTART:20191027T020000
TZOFFSETFROM:+0200
TZOFFSETTO:+0100
TZNAME:CET
END:STANDARD
END:VTIMEZONE
END:VCALENDAR