BEGIN:VCALENDAR
VERSION:2.0
PRODID:-//wp-events-plugin.com//7.2.3.1//EN
TZID:Europe/Berlin
X-WR-TIMEZONE:Europe/Berlin
BEGIN:VEVENT
UID:91@antidef20.de
DTSTART;TZID=Europe/Berlin:20200301T160000
DTEND;TZID=Europe/Berlin:20200301T173000
DTSTAMP:20200227T153403Z
URL:https://www.antidef20.de/events/berlinale-2020-yes-defender-2020-no-3/
SUMMARY:Berlinale 2020 YES-Defender 2020 NO
DESCRIPTION:Mahnwache zum Friedensfilmpreis\n17:00h in den Hackeschen Höfe
 n\nFlyer im Kino verteilen und Aktion davor\nTreffpunkt 16:00 Uhr an den H
 ackeschen Höfen\n\n
LOCATION:Kino Hackesche Höfe\, Rosenthalerstr. 40 - 41\, Berlin-Mitte\, Be
 rlin\, 10178\, Berlin\, Deutschland
X-APPLE-STRUCTURED-LOCATION;VALUE=URI;X-ADDRESS=Rosenthalerstr. 40 - 41\, B
 erlin-Mitte\, Berlin\, 10178\, Berlin\, Deutschland;X-APPLE-RADIUS=100;X-T
 ITLE=Kino Hackesche Höfe:geo:0,0
END:VEVENT
BEGIN:VTIMEZONE
TZID:Europe/Berlin
X-LIC-LOCATION:Europe/Berlin
BEGIN:STANDARD
DTSTART:20191027T020000
TZOFFSETFROM:+0200
TZOFFSETTO:+0100
TZNAME:CET
END:STANDARD
END:VTIMEZONE
END:VCALENDAR