BEGIN:VCALENDAR
VERSION:2.0
PRODID:-//wp-events-plugin.com//7.2.3.1//EN
TZID:Europe/Berlin
X-WR-TIMEZONE:Europe/Berlin
BEGIN:VEVENT
UID:357@antidef20.de
DTSTART;TZID=Europe/Berlin:20200704T110000
DTEND;TZID=Europe/Berlin:20200704T130000
DTSTAMP:20200630T085945Z
URL:https://www.antidef20.de/events/antidef-independence-day-2020/
SUMMARY:AntiDEF & Independence-Day 2020
DESCRIPTION:Independence Day 2020 - Ami go home and take away your military
  bullshit!\n\nNutzen wir den Nationalfeiertag der USA am 04. Juli und nehm
 en Donald Trump beim Wort:\nIndependence Day 2020 - Ami go home and take a
 way your military bullshit!\n\nZeigen wir an möglichst vielen Stellen\, d
 ass wir die militärischen Drohgebärden der NATO\, die\nKonfrontationspol
 itik gegenüber Russland und das weitere Drehen an der Rüstungsspirale ni
 cht länger\nhinnehmen. Zur Abmilderung der wirtschaftlichen Folgen der we
 ltweiten Verbreitung des Corona-Virus wird jeder Euro im Sozialbereich und
  im Gesundheitswesen benötigt\, statt allein in Deutschland 50 Milliarden
  Euro für Kriege\, Kriegsvorbereitung und Rüstung zu verschwenden. Insbe
 sondere der weltweit größte Militärhaushalt in Höhe von 738 Milliarden
  Dollar sollte besser für die Bekämpfung der sozialen Ungleichheit und z
 ur Überwindung des Rassismus in den USA selbst verwendet werden. Friedens
 politik ist immer auch Antirassismus\, Solidarität mit den Verfolgten und
  Unterdrückten. Gerade am 04. Juli wollen wir solidarisch die US- Frieden
 s- und Bürgerrechtsbewegung unterstützen: Black lives Matter!\n\nRegiona
 l ergeben sich eine Vielzahl möglicher Protestorte:\n- entlang der für d
 ieses Jahr und die folgenden Jahre geplanten DEFENDER- Transportrouten\n- 
 die US- Stützpunkte in Kaiserslautern\, Wiesbaden\, Ansbach\, Baumholder\
 , Illesheim und Vielseck\n- der Atomwaffenstandort in Büchel oder die Luf
 twaffenbasen Ramstein und Spangdahlem\n- die Truppenübungsplätze Bergen\
 , Altmark\, Lausitz\, Grafenwöhr und Hohenfels\n- die US- Botschaft in Be
 rlin und die verschiedenen Konsulate\n- US-amerikanische und NATO- Kommand
 oeinrichtungen in Kalkar\, Stuttgart\, Wiesbaden\, Ulm\, Rostock\nMachen w
 ir deutlich\, dass wir die Zeichen der Zeit verstanden haben:\nAbrüsten s
 tatt aufrüsten!\nWeg mit dem 2%- Ziel der NATO!\nAtomwaffen abziehen und 
 abschaffen statt erneuern!\nRüstungsmilliarden ins Gesundheitswesen!\n\nA
 mi go home and take away your military bullshit!\nParade zum US- Truppenab
 zug\nSa.04.07.'20 11 Uhr Markt Leipzig Infostand\, \nviel Musik und kurze 
 Redebeiträge: Abzug / Atomwaffen / Büchel / I have a dream  \n11:30 Para
 de oder Spaziergang oder ... Petersstr. - Neues Rathaus - Simsonplatz - W
 ächterstr.
ATTACH;FMTTYPE=image/jpeg:https://www.antidef20.de/wp-content/uploads/2020
 /06/antidef_Independence_Day_200704.jpg
LOCATION:Markt Leipzig\, Markt\, Leipzig\, Sachsen\, 04109\, Deutschland
X-APPLE-STRUCTURED-LOCATION;VALUE=URI;X-ADDRESS=Markt\, Leipzig\, Sachsen\,
  04109\, Deutschland;X-APPLE-RADIUS=100;X-TITLE=Markt Leipzig:geo:0,0
END:VEVENT
BEGIN:VTIMEZONE
TZID:Europe/Berlin
X-LIC-LOCATION:Europe/Berlin
BEGIN:DAYLIGHT
DTSTART:20200329T030000
TZOFFSETFROM:+0100
TZOFFSETTO:+0200
TZNAME:CEST
END:DAYLIGHT
END:VTIMEZONE
END:VCALENDAR